BEGIN:VCALENDAR
VERSION:2.0
PRODID:-//Eden Valley Mountaineering Club | EVMC.co.uk - ECPv6.15.17.1//NONSGML v1.0//EN
CALSCALE:GREGORIAN
METHOD:PUBLISH
X-WR-CALNAME:Eden Valley Mountaineering Club | EVMC.co.uk
X-ORIGINAL-URL:https://evmc.co.uk
X-WR-CALDESC:Events for Eden Valley Mountaineering Club | EVMC.co.uk
REFRESH-INTERVAL;VALUE=DURATION:PT1H
X-Robots-Tag:noindex
X-PUBLISHED-TTL:PT1H
BEGIN:VTIMEZONE
TZID:Europe/London
BEGIN:DAYLIGHT
TZOFFSETFROM:+0000
TZOFFSETTO:+0100
TZNAME:BST
DTSTART:20230326T010000
END:DAYLIGHT
BEGIN:STANDARD
TZOFFSETFROM:+0100
TZOFFSETTO:+0000
TZNAME:GMT
DTSTART:20231029T010000
END:STANDARD
BEGIN:DAYLIGHT
TZOFFSETFROM:+0000
TZOFFSETTO:+0100
TZNAME:BST
DTSTART:20240331T010000
END:DAYLIGHT
BEGIN:STANDARD
TZOFFSETFROM:+0100
TZOFFSETTO:+0000
TZNAME:GMT
DTSTART:20241027T010000
END:STANDARD
BEGIN:DAYLIGHT
TZOFFSETFROM:+0000
TZOFFSETTO:+0100
TZNAME:BST
DTSTART:20250330T010000
END:DAYLIGHT
BEGIN:STANDARD
TZOFFSETFROM:+0100
TZOFFSETTO:+0000
TZNAME:GMT
DTSTART:20251026T010000
END:STANDARD
END:VTIMEZONE
BEGIN:VEVENT
DTSTART;TZID=Europe/London:20240904T170000
DTEND;TZID=Europe/London:20240904T200000
DTSTAMP:20260422T101459
CREATED:20231214T110624Z
LAST-MODIFIED:20231214T110625Z
UID:1574-1725469200-1725480000@evmc.co.uk
SUMMARY:Evening meet - Head End Crag
DESCRIPTION:
URL:https://evmc.co.uk/event/evening-meet-head-end-crag/
CATEGORIES:evening meets
END:VEVENT
BEGIN:VEVENT
DTSTART;TZID=Europe/London:20240908T100000
DTEND;TZID=Europe/London:20240908T170000
DTSTAMP:20260422T101459
CREATED:20231130T124803Z
LAST-MODIFIED:20231212T143503Z
UID:1403-1725789600-1725814800@evmc.co.uk
SUMMARY:Day Climbing meet
DESCRIPTION:
URL:https://evmc.co.uk/event/day-climbing-meet-24/
CATEGORIES:day meets
END:VEVENT
BEGIN:VEVENT
DTSTART;TZID=Europe/London:20240911T170000
DTEND;TZID=Europe/London:20240911T200000
DTSTAMP:20260422T101459
CREATED:20221206T125430Z
LAST-MODIFIED:20231214T110716Z
UID:1116-1726074000-1726084800@evmc.co.uk
SUMMARY:Evening meet - Armathwaite
DESCRIPTION:
URL:https://evmc.co.uk/event/evening-meet-armathwaite-4/
CATEGORIES:evening meets
END:VEVENT
BEGIN:VEVENT
DTSTART;TZID=Europe/London:20240921T090000
DTEND;TZID=Europe/London:20240921T170000
DTSTAMP:20260422T101459
CREATED:20231130T130232Z
LAST-MODIFIED:20231130T130233Z
UID:1431-1726909200-1726938000@evmc.co.uk
SUMMARY:Saturday scramble
DESCRIPTION:
URL:https://evmc.co.uk/event/saturday-scramble-31/
LOCATION:Venue to be decided by meet organiser according to weather forecast.
CATEGORIES:day meets
END:VEVENT
END:VCALENDAR