BEGIN:VCALENDAR
VERSION:2.0
PRODID:-//Eden Valley Mountaineering Club | EVMC.co.uk - ECPv6.15.17.1//NONSGML v1.0//EN
CALSCALE:GREGORIAN
METHOD:PUBLISH
X-WR-CALNAME:Eden Valley Mountaineering Club | EVMC.co.uk
X-ORIGINAL-URL:https://evmc.co.uk
X-WR-CALDESC:Events for Eden Valley Mountaineering Club | EVMC.co.uk
REFRESH-INTERVAL;VALUE=DURATION:PT1H
X-Robots-Tag:noindex
X-PUBLISHED-TTL:PT1H
BEGIN:VTIMEZONE
TZID:Europe/London
BEGIN:DAYLIGHT
TZOFFSETFROM:+0000
TZOFFSETTO:+0100
TZNAME:BST
DTSTART:20220327T010000
END:DAYLIGHT
BEGIN:STANDARD
TZOFFSETFROM:+0100
TZOFFSETTO:+0000
TZNAME:GMT
DTSTART:20221030T010000
END:STANDARD
BEGIN:DAYLIGHT
TZOFFSETFROM:+0000
TZOFFSETTO:+0100
TZNAME:BST
DTSTART:20230326T010000
END:DAYLIGHT
BEGIN:STANDARD
TZOFFSETFROM:+0100
TZOFFSETTO:+0000
TZNAME:GMT
DTSTART:20231029T010000
END:STANDARD
BEGIN:DAYLIGHT
TZOFFSETFROM:+0000
TZOFFSETTO:+0100
TZNAME:BST
DTSTART:20240331T010000
END:DAYLIGHT
BEGIN:STANDARD
TZOFFSETFROM:+0100
TZOFFSETTO:+0000
TZNAME:GMT
DTSTART:20241027T010000
END:STANDARD
BEGIN:DAYLIGHT
TZOFFSETFROM:+0000
TZOFFSETTO:+0100
TZNAME:BST
DTSTART:20250330T010000
END:DAYLIGHT
BEGIN:STANDARD
TZOFFSETFROM:+0100
TZOFFSETTO:+0000
TZNAME:GMT
DTSTART:20251026T010000
END:STANDARD
END:VTIMEZONE
BEGIN:VEVENT
DTSTART;TZID=Europe/London:20240403T170000
DTEND;TZID=Europe/London:20240403T200000
DTSTAMP:20260422T165930
CREATED:20231214T103813Z
LAST-MODIFIED:20231214T103814Z
UID:1532-1712163600-1712174400@evmc.co.uk
SUMMARY:Evening meet - Armathwaite
DESCRIPTION:Trad climbing – the crag gets the evening sun- followed by a pint in the Fox and Pheasant
URL:https://evmc.co.uk/event/evening-meet-armathwaite/
LOCATION:Park east side of bridge – follow path under bridge and upstream to crag
CATEGORIES:evening meets
END:VEVENT
BEGIN:VEVENT
DTSTART;TZID=Europe/London:20240327T183000
DTEND;TZID=Europe/London:20240327T210000
DTSTAMP:20260422T165930
CREATED:20231130T131233Z
LAST-MODIFIED:20231130T131233Z
UID:1465-1711564200-1711573200@evmc.co.uk
SUMMARY:Evening Climbing Wall meet
DESCRIPTION:Climbing at Eden Climbing Wall at Penrith Leisure Centre followed by a pint in the Fell Bar
URL:https://evmc.co.uk/event/evening-climbing-wall-meet-46/
CATEGORIES:evening meets
END:VEVENT
BEGIN:VEVENT
DTSTART;TZID=Europe/London:20240320T183000
DTEND;TZID=Europe/London:20240320T210000
DTSTAMP:20260422T165930
CREATED:20231130T131212Z
LAST-MODIFIED:20231130T131213Z
UID:1463-1710959400-1710968400@evmc.co.uk
SUMMARY:Evening Climbing Wall meet
DESCRIPTION:Climbing at Eden Climbing Wall at Penrith Leisure Centre followed by a pint in the Fell Bar
URL:https://evmc.co.uk/event/evening-climbing-wall-meet-45/
CATEGORIES:evening meets
END:VEVENT
BEGIN:VEVENT
DTSTART;TZID=Europe/London:20240313T183000
DTEND;TZID=Europe/London:20240313T210000
DTSTAMP:20260422T165930
CREATED:20231130T131152Z
LAST-MODIFIED:20231130T131153Z
UID:1461-1710354600-1710363600@evmc.co.uk
SUMMARY:Evening Climbing Wall meet
DESCRIPTION:Climbing at Eden Climbing Wall at Penrith Leisure Centre followed by a pint in the Fell Bar
URL:https://evmc.co.uk/event/evening-climbing-wall-meet-44/
CATEGORIES:evening meets
END:VEVENT
BEGIN:VEVENT
DTSTART;TZID=Europe/London:20240306T183000
DTEND;TZID=Europe/London:20240306T210000
DTSTAMP:20260422T165930
CREATED:20231130T131122Z
LAST-MODIFIED:20231130T131123Z
UID:1459-1709749800-1709758800@evmc.co.uk
SUMMARY:Evening Climbing Wall meet
DESCRIPTION:Climbing at Eden Climbing Wall at Penrith Leisure Centre followed by a pint in the Fell Bar
URL:https://evmc.co.uk/event/evening-climbing-wall-meet-43/
CATEGORIES:evening meets
END:VEVENT
BEGIN:VEVENT
DTSTART;TZID=Europe/London:20240228T183000
DTEND;TZID=Europe/London:20240228T210000
DTSTAMP:20260422T165930
CREATED:20231130T131101Z
LAST-MODIFIED:20231130T131102Z
UID:1457-1709145000-1709154000@evmc.co.uk
SUMMARY:Evening Climbing Wall meet
DESCRIPTION:Climbing at Eden Climbing Wall at Penrith Leisure Centre followed by a pint in the Fell Bar
URL:https://evmc.co.uk/event/evening-climbing-wall-meet-42/
CATEGORIES:evening meets
END:VEVENT
BEGIN:VEVENT
DTSTART;TZID=Europe/London:20240221T183000
DTEND;TZID=Europe/London:20240221T210000
DTSTAMP:20260422T165930
CREATED:20231130T131042Z
LAST-MODIFIED:20231130T131043Z
UID:1455-1708540200-1708549200@evmc.co.uk
SUMMARY:Evening Climbing Wall meet
DESCRIPTION:Climbing at Eden Climbing Wall at Penrith Leisure Centre followed by a pint in the Fell Bar
URL:https://evmc.co.uk/event/evening-climbing-wall-meet-41/
CATEGORIES:evening meets
END:VEVENT
BEGIN:VEVENT
DTSTART;TZID=Europe/London:20240214T183000
DTEND;TZID=Europe/London:20240214T210000
DTSTAMP:20260422T165930
CREATED:20231130T131023Z
LAST-MODIFIED:20231130T131023Z
UID:1453-1707935400-1707944400@evmc.co.uk
SUMMARY:Evening Climbing Wall meet
DESCRIPTION:Climbing at Eden Climbing Wall at Penrith Leisure Centre followed by a pint in the Fell Bar
URL:https://evmc.co.uk/event/evening-climbing-wall-meet-40/
CATEGORIES:evening meets
END:VEVENT
BEGIN:VEVENT
DTSTART;TZID=Europe/London:20240207T183000
DTEND;TZID=Europe/London:20240207T210000
DTSTAMP:20260422T165930
CREATED:20231130T130955Z
LAST-MODIFIED:20231130T130955Z
UID:1451-1707330600-1707339600@evmc.co.uk
SUMMARY:Evening Climbing Wall meet
DESCRIPTION:Climbing at Eden Climbing Wall at Penrith Leisure Centre followed by a pint in the Fell Bar
URL:https://evmc.co.uk/event/evening-climbing-wall-meet-39/
CATEGORIES:evening meets
END:VEVENT
BEGIN:VEVENT
DTSTART;TZID=Europe/London:20240131T183000
DTEND;TZID=Europe/London:20240131T210000
DTSTAMP:20260422T165930
CREATED:20231130T130932Z
LAST-MODIFIED:20231130T130933Z
UID:1449-1706725800-1706734800@evmc.co.uk
SUMMARY:Evening Climbing Wall meet
DESCRIPTION:Climbing at Eden Climbing Wall at Penrith Leisure Centre followed by a pint in the Fell Bar
URL:https://evmc.co.uk/event/evening-climbing-wall-meet-38/
CATEGORIES:evening meets
END:VEVENT
BEGIN:VEVENT
DTSTART;TZID=Europe/London:20240124T183000
DTEND;TZID=Europe/London:20240124T210000
DTSTAMP:20260422T165930
CREATED:20231130T130909Z
LAST-MODIFIED:20231130T130910Z
UID:1447-1706121000-1706130000@evmc.co.uk
SUMMARY:Evening Climbing Wall meet
DESCRIPTION:Climbing at Eden Climbing Wall at Penrith Leisure Centre followed by a pint in the Fell Bar
URL:https://evmc.co.uk/event/evening-climbing-wall-meet-37/
CATEGORIES:evening meets
END:VEVENT
BEGIN:VEVENT
DTSTART;TZID=Europe/London:20240117T183000
DTEND;TZID=Europe/London:20240117T210000
DTSTAMP:20260422T165930
CREATED:20231130T130848Z
LAST-MODIFIED:20231130T130848Z
UID:1445-1705516200-1705525200@evmc.co.uk
SUMMARY:Evening Climbing Wall meet
DESCRIPTION:Climbing at Eden Climbing Wall at Penrith Leisure Centre followed by a pint in the Fell Bar
URL:https://evmc.co.uk/event/evening-climbing-wall-meet-36/
CATEGORIES:evening meets
END:VEVENT
BEGIN:VEVENT
DTSTART;TZID=Europe/London:20240110T183000
DTEND;TZID=Europe/London:20240110T210000
DTSTAMP:20260422T165930
CREATED:20231130T130825Z
LAST-MODIFIED:20231130T130826Z
UID:1443-1704911400-1704920400@evmc.co.uk
SUMMARY:Evening Climbing Wall meet
DESCRIPTION:Climbing at Eden Climbing Wall at Penrith Leisure Centre followed by a pint in the Fell Bar
URL:https://evmc.co.uk/event/evening-climbing-wall-meet-35/
CATEGORIES:evening meets
END:VEVENT
BEGIN:VEVENT
DTSTART;TZID=Europe/London:20240103T183000
DTEND;TZID=Europe/London:20240103T210000
DTSTAMP:20260422T165930
CREATED:20231130T130759Z
LAST-MODIFIED:20231130T130759Z
UID:1440-1704306600-1704315600@evmc.co.uk
SUMMARY:Evening Climbing Wall meet
DESCRIPTION:Climbing at Eden Climbing Wall at Penrith Leisure Centre followed by a pint in the Fell Bar
URL:https://evmc.co.uk/event/evening-climbing-wall-meet-34/
CATEGORIES:evening meets
END:VEVENT
BEGIN:VEVENT
DTSTART;TZID=Europe/London:20231220T183000
DTEND;TZID=Europe/London:20231220T210000
DTSTAMP:20260422T165930
CREATED:20231127T195635Z
LAST-MODIFIED:20231127T195636Z
UID:1353-1703097000-1703106000@evmc.co.uk
SUMMARY:Evening Climbing Wall meet
DESCRIPTION:Climbing at Eden Climbing Wall at Penrith Leisure Centre followed by a pint in the Fell Bar
URL:https://evmc.co.uk/event/evening-climbing-wall-meet-33/
CATEGORIES:evening meets
END:VEVENT
BEGIN:VEVENT
DTSTART;TZID=Europe/London:20231206T183000
DTEND;TZID=Europe/London:20231206T210000
DTSTAMP:20260422T165930
CREATED:20231127T195555Z
LAST-MODIFIED:20231127T195556Z
UID:1351-1701887400-1701896400@evmc.co.uk
SUMMARY:Evening Climbing Wall meet
DESCRIPTION:Climbing at Eden Climbing Wall at Penrith Leisure Centre followed by a pint in the Fell Bar
URL:https://evmc.co.uk/event/evening-climbing-wall-meet-32/
CATEGORIES:evening meets
END:VEVENT
BEGIN:VEVENT
DTSTART;TZID=Europe/London:20231129T183000
DTEND;TZID=Europe/London:20231129T210000
DTSTAMP:20260422T165930
CREATED:20231127T195505Z
LAST-MODIFIED:20231127T195506Z
UID:1349-1701282600-1701291600@evmc.co.uk
SUMMARY:Evening Climbing Wall meet
DESCRIPTION:Climbing at Eden Climbing Wall at Penrith Leisure Centre followed by a pint in the Fell Bar
URL:https://evmc.co.uk/event/evening-climbing-wall-meet-31/
CATEGORIES:evening meets
END:VEVENT
BEGIN:VEVENT
DTSTART;TZID=Europe/London:20230913T170000
DTEND;TZID=Europe/London:20230913T210000
DTSTAMP:20260422T165930
CREATED:20221206T125523Z
LAST-MODIFIED:20221206T125524Z
UID:1118-1694624400-1694638800@evmc.co.uk
SUMMARY:Evening meet - Bramcrag Quarry
DESCRIPTION:
URL:https://evmc.co.uk/event/evening-meet-bramcrag-quarry-3/
CATEGORIES:evening meets
END:VEVENT
BEGIN:VEVENT
DTSTART;TZID=Europe/London:20230830T170000
DTEND;TZID=Europe/London:20230830T200000
DTSTAMP:20260422T165930
CREATED:20221206T125337Z
LAST-MODIFIED:20221206T125338Z
UID:1114-1693414800-1693425600@evmc.co.uk
SUMMARY:Evening meet - Head End Crag
DESCRIPTION:
URL:https://evmc.co.uk/event/evening-meet-head-end-crag-2/
CATEGORIES:evening meets
END:VEVENT
BEGIN:VEVENT
DTSTART;TZID=Europe/London:20230823T170000
DTEND;TZID=Europe/London:20230823T210000
DTSTAMP:20260422T165930
CREATED:20221206T125155Z
LAST-MODIFIED:20221206T125156Z
UID:1112-1692810000-1692824400@evmc.co.uk
SUMMARY:Evening meet - Shepherd's Crag
DESCRIPTION:
URL:https://evmc.co.uk/event/evening-meet-shepherds-crag-2/
CATEGORIES:evening meets
END:VEVENT
BEGIN:VEVENT
DTSTART;TZID=Europe/London:20230816T170000
DTEND;TZID=Europe/London:20230816T210000
DTSTAMP:20260422T165930
CREATED:20221206T124955Z
LAST-MODIFIED:20221206T124956Z
UID:1110-1692205200-1692219600@evmc.co.uk
SUMMARY:Evening Meet- Castle Rock
DESCRIPTION:Castle Rock\, Thirlmere
URL:https://evmc.co.uk/event/evening-meet-castle-rock-2/
CATEGORIES:evening meets
END:VEVENT
BEGIN:VEVENT
DTSTART;TZID=Europe/London:20230809T170000
DTEND;TZID=Europe/London:20230809T210000
DTSTAMP:20260422T165930
CREATED:20221206T124909Z
LAST-MODIFIED:20221206T124910Z
UID:1106-1691600400-1691614800@evmc.co.uk
SUMMARY:Evening meet - Falcon Crag\, Borrowdale
DESCRIPTION:
URL:https://evmc.co.uk/event/evening-meet-falcon-crag-borrowdale/
CATEGORIES:evening meets
END:VEVENT
BEGIN:VEVENT
DTSTART;TZID=Europe/London:20230802T170000
DTEND;TZID=Europe/London:20230802T210000
DTSTAMP:20260422T165930
CREATED:20221206T124742Z
LAST-MODIFIED:20221206T124743Z
UID:1104-1690995600-1691010000@evmc.co.uk
SUMMARY:Evening Meet - Peel Crag
DESCRIPTION:Peel Crag – Steel Rigg car park by Roman Wall. From Steel Rigg\, follow the main track down towards the crag.
URL:https://evmc.co.uk/event/evening-meet-peel-crag-2/
CATEGORIES:evening meets
END:VEVENT
BEGIN:VEVENT
DTSTART;TZID=Europe/London:20230726T170000
DTEND;TZID=Europe/London:20230726T210000
DTSTAMP:20260422T165930
CREATED:20221206T124614Z
LAST-MODIFIED:20221206T124615Z
UID:1102-1690390800-1690405200@evmc.co.uk
SUMMARY:Evening Meet - Black Crag
DESCRIPTION:Black Crag\, Borrowdale
URL:https://evmc.co.uk/event/evening-meet-black-crag-2/
CATEGORIES:evening meets
END:VEVENT
BEGIN:VEVENT
DTSTART;TZID=Europe/London:20230719T170000
DTEND;TZID=Europe/London:20230719T210000
DTSTAMP:20260422T165930
CREATED:20221206T124521Z
LAST-MODIFIED:20221206T124523Z
UID:1100-1689786000-1689800400@evmc.co.uk
SUMMARY:Evening Meet -Scawgill Bridge Quarry
DESCRIPTION:Scawgill Bridge Quarry is just above the road\, about 3km west of the Whinlatter Centre. The quarry faces south and most routes dry quickly after rain. \n\n\n\nPark carefully on the bend below the crag. Go through the gate and follow the path to the right of the gravel pit. Above the gravel\, follow the path rightwards for 100 metres (ignore short cuts) and then jag back left along a path through gorse to the crag.
URL:https://evmc.co.uk/event/evening-meet-scawgill-bridge-quarry-3/
LOCATION:Scawgill Bridge Quarry
CATEGORIES:evening meets
END:VEVENT
BEGIN:VEVENT
DTSTART;TZID=Europe/London:20230712T180000
DTEND;TZID=Europe/London:20230712T210000
DTSTAMP:20260422T165930
CREATED:20221206T124359Z
LAST-MODIFIED:20221206T124400Z
UID:1096-1689184800-1689195600@evmc.co.uk
SUMMARY:Evening meet Gouther Crag\, Swindale
DESCRIPTION:Park on the side of the  road before “No Traffic..” sign – then walk along to bridge over river.
URL:https://evmc.co.uk/event/evening-meet-gouther-crag-swindale/
LOCATION:Gouther Crag\, Swindale
CATEGORIES:evening meets
END:VEVENT
BEGIN:VEVENT
DTSTART;TZID=Europe/London:20230705T180000
DTEND;TZID=Europe/London:20230705T210000
DTSTAMP:20260422T165930
CREATED:20221206T124205Z
LAST-MODIFIED:20221206T124206Z
UID:1092-1688580000-1688590800@evmc.co.uk
SUMMARY:Crag Lough
DESCRIPTION:NY751677   Car park by Roman Wall. Peel Crag by Wall and Crag Lough 1km beyond.
URL:https://evmc.co.uk/event/crag-lough-2/
CATEGORIES:evening meets
END:VEVENT
BEGIN:VEVENT
DTSTART;TZID=Europe/London:20230628T170000
DTEND;TZID=Europe/London:20230628T210000
DTSTAMP:20260422T165930
CREATED:20221205T181957Z
LAST-MODIFIED:20221205T181958Z
UID:1083-1687971600-1687986000@evmc.co.uk
SUMMARY:Evening meet - Kirkstone Buttress
DESCRIPTION:PDF guide to the crag can be downloaded from the EVMC or FRCC website
URL:https://evmc.co.uk/event/evening-meet-kirkstone-buttress/
CATEGORIES:evening meets
END:VEVENT
BEGIN:VEVENT
DTSTART;TZID=Europe/London:20230614T170000
DTEND;TZID=Europe/London:20230614T210000
DTSTAMP:20260422T165930
CREATED:20221205T181552Z
LAST-MODIFIED:20221205T181553Z
UID:1077-1686762000-1686776400@evmc.co.uk
SUMMARY:Evening meet - Reecastle/Goats Crag\, Watendlath
DESCRIPTION:
URL:https://evmc.co.uk/event/evening-meet-reecastle-goats-crag-watendlath/
CATEGORIES:evening meets
END:VEVENT
BEGIN:VEVENT
DTSTART;TZID=Europe/London:20230607T173000
DTEND;TZID=Europe/London:20230607T210000
DTSTAMP:20260422T165930
CREATED:20221206T123626Z
LAST-MODIFIED:20221206T123627Z
UID:1090-1686159000-1686171600@evmc.co.uk
SUMMARY:Evening Meet - Quayfoot Buttress
DESCRIPTION:
URL:https://evmc.co.uk/event/evening-meet-quayfoot-buttress/
CATEGORIES:evening meets
END:VEVENT
END:VCALENDAR