BEGIN:VCALENDAR
VERSION:2.0
PRODID:-//Eden Valley Mountaineering Club | EVMC.co.uk - ECPv6.15.17.1//NONSGML v1.0//EN
CALSCALE:GREGORIAN
METHOD:PUBLISH
X-ORIGINAL-URL:https://evmc.co.uk
X-WR-CALDESC:Events for Eden Valley Mountaineering Club | EVMC.co.uk
REFRESH-INTERVAL;VALUE=DURATION:PT1H
X-Robots-Tag:noindex
X-PUBLISHED-TTL:PT1H
BEGIN:VTIMEZONE
TZID:Europe/London
BEGIN:DAYLIGHT
TZOFFSETFROM:+0000
TZOFFSETTO:+0100
TZNAME:BST
DTSTART:20230326T010000
END:DAYLIGHT
BEGIN:STANDARD
TZOFFSETFROM:+0100
TZOFFSETTO:+0000
TZNAME:GMT
DTSTART:20231029T010000
END:STANDARD
BEGIN:DAYLIGHT
TZOFFSETFROM:+0000
TZOFFSETTO:+0100
TZNAME:BST
DTSTART:20240331T010000
END:DAYLIGHT
BEGIN:STANDARD
TZOFFSETFROM:+0100
TZOFFSETTO:+0000
TZNAME:GMT
DTSTART:20241027T010000
END:STANDARD
BEGIN:DAYLIGHT
TZOFFSETFROM:+0000
TZOFFSETTO:+0100
TZNAME:BST
DTSTART:20250330T010000
END:DAYLIGHT
BEGIN:STANDARD
TZOFFSETFROM:+0100
TZOFFSETTO:+0000
TZNAME:GMT
DTSTART:20251026T010000
END:STANDARD
BEGIN:DAYLIGHT
TZOFFSETFROM:+0000
TZOFFSETTO:+0100
TZNAME:BST
DTSTART:20260329T010000
END:DAYLIGHT
BEGIN:STANDARD
TZOFFSETFROM:+0100
TZOFFSETTO:+0000
TZNAME:GMT
DTSTART:20261025T010000
END:STANDARD
END:VTIMEZONE
BEGIN:VEVENT
DTSTART;TZID=Europe/London:20250702T170000
DTEND;TZID=Europe/London:20250702T210000
DTSTAMP:20260422T115324
CREATED:20241216T173941Z
LAST-MODIFIED:20241216T173943Z
UID:2067-1751475600-1751490000@evmc.co.uk
SUMMARY:Evening meet - Black Crag
DESCRIPTION:
URL:https://evmc.co.uk/event/evening-meet-black-crag-3/
LOCATION:Black Crag
CATEGORIES:evening meets
END:VEVENT
BEGIN:VEVENT
DTSTART;TZID=Europe/London:20250625T170000
DTEND;TZID=Europe/London:20250625T210000
DTSTAMP:20260422T115324
CREATED:20241216T173802Z
LAST-MODIFIED:20241216T173804Z
UID:2065-1750870800-1750885200@evmc.co.uk
SUMMARY:Evening meet - Swindale
DESCRIPTION:
URL:https://evmc.co.uk/event/evening-meet-swindale/
LOCATION:Gouther Crag\, Swindale
CATEGORIES:evening meets
END:VEVENT
BEGIN:VEVENT
DTSTART;TZID=Europe/London:20250618T170000
DTEND;TZID=Europe/London:20250618T210000
DTSTAMP:20260422T115324
CREATED:20241216T173651Z
LAST-MODIFIED:20241216T173655Z
UID:2063-1750266000-1750280400@evmc.co.uk
SUMMARY:Evening meet - Reecastle/Goat's Crag\, Watendlath
DESCRIPTION:
URL:https://evmc.co.uk/event/evening-meet-reecastle-goats-crag-watendlath-3/
CATEGORIES:evening meets
END:VEVENT
BEGIN:VEVENT
DTSTART;TZID=Europe/London:20250611T170000
DTEND;TZID=Europe/London:20250611T210000
DTSTAMP:20260422T115324
CREATED:20241216T173516Z
LAST-MODIFIED:20241216T173517Z
UID:2061-1749661200-1749675600@evmc.co.uk
SUMMARY:Evening meet - Crag Lough/Peel Crag
DESCRIPTION:
URL:https://evmc.co.uk/event/evening-meet-crag-lough-peel-crag/
CATEGORIES:evening meets
END:VEVENT
BEGIN:VEVENT
DTSTART;TZID=Europe/London:20250604T170000
DTEND;TZID=Europe/London:20250604T210000
DTSTAMP:20260422T115324
CREATED:20241216T173325Z
LAST-MODIFIED:20241216T173326Z
UID:2059-1749056400-1749070800@evmc.co.uk
SUMMARY:Evening meet - Shepherd's Crag
DESCRIPTION:
URL:https://evmc.co.uk/event/evening-meet-shepherds-crag-4/
CATEGORIES:evening meets
END:VEVENT
BEGIN:VEVENT
DTSTART;TZID=Europe/London:20250528T170000
DTEND;TZID=Europe/London:20250528T210000
DTSTAMP:20260422T115324
CREATED:20241216T173159Z
LAST-MODIFIED:20241216T173200Z
UID:2057-1748451600-1748466000@evmc.co.uk
SUMMARY:Evening meet - Castle Rock
DESCRIPTION:
URL:https://evmc.co.uk/event/evening-meet-castle-rock/
CATEGORIES:evening meets
END:VEVENT
BEGIN:VEVENT
DTSTART;TZID=Europe/London:20250521T170000
DTEND;TZID=Europe/London:20250521T210000
DTSTAMP:20260422T115324
CREATED:20241216T172936Z
LAST-MODIFIED:20241216T172938Z
UID:2055-1747846800-1747861200@evmc.co.uk
SUMMARY:Evening meet - Giggleswick
DESCRIPTION:Yorkshire sports climbing.
URL:https://evmc.co.uk/event/evening-meet-giggleswick/
CATEGORIES:evening meets
END:VEVENT
BEGIN:VEVENT
DTSTART;TZID=Europe/London:20250514T170000
DTEND;TZID=Europe/London:20250514T210000
DTSTAMP:20260422T115324
CREATED:20241216T172551Z
LAST-MODIFIED:20241216T172722Z
UID:2047-1747242000-1747256400@evmc.co.uk
SUMMARY:Evening meet - Scawgill Bridge Quarry
DESCRIPTION:Sunny sports climbing above Whinlatter
URL:https://evmc.co.uk/event/evening-meet-scawgill-bridge-quarry-5/
LOCATION:Scawgill Bridge Quarry
CATEGORIES:evening meets
END:VEVENT
BEGIN:VEVENT
DTSTART;TZID=Europe/London:20250507T170000
DTEND;TZID=Europe/London:20250507T210000
DTSTAMP:20260422T115324
CREATED:20241216T172249Z
LAST-MODIFIED:20241216T172250Z
UID:2041-1746637200-1746651600@evmc.co.uk
SUMMARY:Evening meet - Dalt Quarry
DESCRIPTION:Borrowdale sports climbing
URL:https://evmc.co.uk/event/evening-meet-dalt-quarry/
LOCATION:Dalt Quarry
CATEGORIES:evening meets
END:VEVENT
BEGIN:VEVENT
DTSTART;TZID=Europe/London:20250430T170000
DTEND;TZID=Europe/London:20250430T210000
DTSTAMP:20260422T115324
CREATED:20241216T172048Z
LAST-MODIFIED:20241216T172050Z
UID:2039-1746032400-1746046800@evmc.co.uk
SUMMARY:Evening meet - Bramcrag Quarry
DESCRIPTION:Sunny sports climbing
URL:https://evmc.co.uk/event/evening-meet-bramcrag-quarry-5/
CATEGORIES:evening meets
END:VEVENT
BEGIN:VEVENT
DTSTART;TZID=Europe/London:20250423T170000
DTEND;TZID=Europe/London:20250423T200000
DTSTAMP:20260422T115324
CREATED:20241216T171735Z
LAST-MODIFIED:20241216T171736Z
UID:2037-1745427600-1745438400@evmc.co.uk
SUMMARY:Evening meet - Carrock Fell
DESCRIPTION:Choice of Snail Shell Crag for easy trad or the Carrock Boulders
URL:https://evmc.co.uk/event/evening-meet-carrock-fell-2/
CATEGORIES:evening meets
END:VEVENT
BEGIN:VEVENT
DTSTART;TZID=Europe/London:20250416T170000
DTEND;TZID=Europe/London:20250416T200000
DTSTAMP:20260422T115324
CREATED:20241216T171417Z
LAST-MODIFIED:20241216T171418Z
UID:2029-1744822800-1744833600@evmc.co.uk
SUMMARY:Evening meet - King's Meaburn
DESCRIPTION:
URL:https://evmc.co.uk/event/evening-meet-kings-meaburn-3/
LOCATION:King’s Meaburn
CATEGORIES:evening meets
END:VEVENT
BEGIN:VEVENT
DTSTART;TZID=Europe/London:20250409T170000
DTEND;TZID=Europe/London:20250409T200000
DTSTAMP:20260422T115324
CREATED:20241216T170710Z
LAST-MODIFIED:20241216T170849Z
UID:2022-1744218000-1744228800@evmc.co.uk
SUMMARY:Evening meet - Shepherd's Crag
DESCRIPTION:
URL:https://evmc.co.uk/event/evening-meet-armathwaite-3/
CATEGORIES:evening meets
END:VEVENT
BEGIN:VEVENT
DTSTART;TZID=Europe/London:20250402T170000
DTEND;TZID=Europe/London:20250402T200000
DTSTAMP:20260422T115324
CREATED:20241216T171159Z
LAST-MODIFIED:20241216T171200Z
UID:2027-1743613200-1743624000@evmc.co.uk
SUMMARY:Evening meet - Armathwaite
DESCRIPTION:
URL:https://evmc.co.uk/event/evening-meet-armathwaite-5/
CATEGORIES:evening meets
END:VEVENT
BEGIN:VEVENT
DTSTART;TZID=Europe/London:20240911T170000
DTEND;TZID=Europe/London:20240911T200000
DTSTAMP:20260422T115324
CREATED:20221206T125430Z
LAST-MODIFIED:20231214T110716Z
UID:1116-1726074000-1726084800@evmc.co.uk
SUMMARY:Evening meet - Armathwaite
DESCRIPTION:
URL:https://evmc.co.uk/event/evening-meet-armathwaite-4/
CATEGORIES:evening meets
END:VEVENT
BEGIN:VEVENT
DTSTART;TZID=Europe/London:20240904T170000
DTEND;TZID=Europe/London:20240904T200000
DTSTAMP:20260422T115324
CREATED:20231214T110624Z
LAST-MODIFIED:20231214T110625Z
UID:1574-1725469200-1725480000@evmc.co.uk
SUMMARY:Evening meet - Head End Crag
DESCRIPTION:
URL:https://evmc.co.uk/event/evening-meet-head-end-crag/
CATEGORIES:evening meets
END:VEVENT
BEGIN:VEVENT
DTSTART;TZID=Europe/London:20240828T170000
DTEND;TZID=Europe/London:20240828T210000
DTSTAMP:20260422T115324
CREATED:20231214T105317Z
LAST-MODIFIED:20231214T105319Z
UID:1555-1724864400-1724878800@evmc.co.uk
SUMMARY:Evening meet - Scawgill Bridge Quarry
DESCRIPTION:Bolt clipping on a sunny south-facing quarry. \n\n\n\nPDF guide to the crag on the EVMC and FRCC websites
URL:https://evmc.co.uk/event/evening-meet-scawgill-bridge-quarry-4/
CATEGORIES:evening meets
END:VEVENT
BEGIN:VEVENT
DTSTART;TZID=Europe/London:20240821T170000
DTEND;TZID=Europe/London:20240821T210000
DTSTAMP:20260422T115324
CREATED:20231214T111746Z
LAST-MODIFIED:20231214T111747Z
UID:1586-1724259600-1724274000@evmc.co.uk
SUMMARY:Evening meet - Middle Busk Scar
DESCRIPTION:
URL:https://evmc.co.uk/event/evening-meet-middle-busk-scar/
CATEGORIES:evening meets
END:VEVENT
BEGIN:VEVENT
DTSTART;TZID=Europe/London:20240814T170000
DTEND;TZID=Europe/London:20240814T210000
DTSTAMP:20260422T115324
CREATED:20231214T110112Z
LAST-MODIFIED:20231214T110113Z
UID:1569-1723654800-1723669200@evmc.co.uk
SUMMARY:Castle Rock (Thirlmere)
DESCRIPTION:Grid Ref: NY 321197Parking: Car park in Legburthwaite car parkRefreshments afterwards: White Horse – Scales
URL:https://evmc.co.uk/event/castle-rock-thirlmere-3/
CATEGORIES:evening meets
END:VEVENT
BEGIN:VEVENT
DTSTART;TZID=Europe/London:20240807T170000
DTEND;TZID=Europe/London:20240807T210000
DTSTAMP:20260422T115324
CREATED:20231214T111627Z
LAST-MODIFIED:20231214T183124Z
UID:1584-1723050000-1723064400@evmc.co.uk
SUMMARY:Evening meet - Quayfoot Buttress
DESCRIPTION:
URL:https://evmc.co.uk/event/evening-meet-falcon-crag/
CATEGORIES:evening meets
END:VEVENT
BEGIN:VEVENT
DTSTART;TZID=Europe/London:20240731T170000
DTEND;TZID=Europe/London:20240731T210000
DTSTAMP:20260422T115324
CREATED:20231214T111502Z
LAST-MODIFIED:20231214T111503Z
UID:1582-1722445200-1722459600@evmc.co.uk
SUMMARY:Evening meet - Warton Quarry -Upper Terrace
DESCRIPTION:
URL:https://evmc.co.uk/event/evening-meet-warton-quarry-upper-terrace/
CATEGORIES:evening meets
END:VEVENT
BEGIN:VEVENT
DTSTART;TZID=Europe/London:20240724T170000
DTEND;TZID=Europe/London:20240724T210000
DTSTAMP:20260422T115324
CREATED:20231214T110329Z
LAST-MODIFIED:20231214T110331Z
UID:1571-1721840400-1721854800@evmc.co.uk
SUMMARY:Evening Meet - Black Crag
DESCRIPTION:Black Crag\, Borrowdale
URL:https://evmc.co.uk/event/evening-meet-black-crag/
CATEGORIES:evening meets
END:VEVENT
BEGIN:VEVENT
DTSTART;TZID=Europe/London:20240717T170000
DTEND;TZID=Europe/London:20240717T210000
DTSTAMP:20260422T115324
CREATED:20231214T104932Z
LAST-MODIFIED:20231214T104933Z
UID:1549-1721235600-1721250000@evmc.co.uk
SUMMARY:Evening meet - Bramcrag Quarry
DESCRIPTION:Bolt clipping in the evening sun in an esoteric location in St John’s in the Vale.  \n\n\n\nPint afterwards in the White Horse.
URL:https://evmc.co.uk/event/evening-meet-bramcrag-quarry-4/
CATEGORIES:evening meets
END:VEVENT
BEGIN:VEVENT
DTSTART;TZID=Europe/London:20240710T180000
DTEND;TZID=Europe/London:20240710T210000
DTSTAMP:20260422T115324
CREATED:20231214T105854Z
LAST-MODIFIED:20231214T105855Z
UID:1565-1720634400-1720645200@evmc.co.uk
SUMMARY:Evening meet Gouther Crag\, Swindale
DESCRIPTION:Park on the side of the  road before “No Traffic..” sign – then walk along to bridge over river.
URL:https://evmc.co.uk/event/evening-meet-gouther-crag-swindale-2/
LOCATION:Gouther Crag\, Swindale
CATEGORIES:evening meets
END:VEVENT
BEGIN:VEVENT
DTSTART;TZID=Europe/London:20240626T170000
DTEND;TZID=Europe/London:20240626T210000
DTSTAMP:20260422T115324
CREATED:20231214T105648Z
LAST-MODIFIED:20231214T105649Z
UID:1561-1719421200-1719435600@evmc.co.uk
SUMMARY:Evening meet - Kirkstone Buttress
DESCRIPTION:PDF guide to the crag can be downloaded from the EVMC or FRCC website
URL:https://evmc.co.uk/event/evening-meet-kirkstone-buttress-2/
CATEGORIES:evening meets
END:VEVENT
BEGIN:VEVENT
DTSTART;TZID=Europe/London:20240619T170000
DTEND;TZID=Europe/London:20240619T210000
DTSTAMP:20260422T115324
CREATED:20231214T105538Z
LAST-MODIFIED:20231214T105539Z
UID:1559-1718816400-1718830800@evmc.co.uk
SUMMARY:Evening meet - Reecastle/Goats Crag\, Watendlath
DESCRIPTION:
URL:https://evmc.co.uk/event/evening-meet-reecastle-goats-crag-watendlath-2/
CATEGORIES:evening meets
END:VEVENT
BEGIN:VEVENT
DTSTART;TZID=Europe/London:20240612T173000
DTEND;TZID=Europe/London:20240612T210000
DTSTAMP:20260422T115324
CREATED:20231214T105428Z
LAST-MODIFIED:20231214T183323Z
UID:1557-1718213400-1718226000@evmc.co.uk
SUMMARY:Evening Meet - Crag Lough
DESCRIPTION:
URL:https://evmc.co.uk/event/evening-meet-quayfoot-buttress-2/
CATEGORIES:evening meets
END:VEVENT
BEGIN:VEVENT
DTSTART;TZID=Europe/London:20240605T170000
DTEND;TZID=Europe/London:20240605T210000
DTSTAMP:20260422T115324
CREATED:20231214T111323Z
LAST-MODIFIED:20231228T163659Z
UID:1578-1717606800-1717621200@evmc.co.uk
SUMMARY:Evening meet - Brough Scar
DESCRIPTION:PDF for this Sports crag is on the EVMC website
URL:https://evmc.co.uk/event/evening-meet-brough-scar/
CATEGORIES:evening meets
END:VEVENT
BEGIN:VEVENT
DTSTART;TZID=Europe/London:20240529T170000
DTEND;TZID=Europe/London:20240529T210000
DTSTAMP:20260422T115324
CREATED:20231214T110000Z
LAST-MODIFIED:20231214T110001Z
UID:1567-1717002000-1717016400@evmc.co.uk
SUMMARY:Castle Rock (Thirlmere)
DESCRIPTION:Grid Ref: NY 321197Parking: Car park in Legburthwaite car parkRefreshments afterwards: White Horse – Scales
URL:https://evmc.co.uk/event/castle-rock-thirlmere/
CATEGORIES:evening meets
END:VEVENT
BEGIN:VEVENT
DTSTART;TZID=Europe/London:20240522T170000
DTEND;TZID=Europe/London:20240522T210000
DTSTAMP:20260422T115324
CREATED:20231228T163521Z
LAST-MODIFIED:20231228T163522Z
UID:1605-1716397200-1716411600@evmc.co.uk
SUMMARY:Evening meet - Falcon Crag
DESCRIPTION:
URL:https://evmc.co.uk/event/evening-meet-falcon-crag-2/
CATEGORIES:evening meets
END:VEVENT
END:VCALENDAR