BEGIN:VCALENDAR
VERSION:2.0
PRODID:-//Eden Valley Mountaineering Club | EVMC.co.uk - ECPv6.15.17.1//NONSGML v1.0//EN
CALSCALE:GREGORIAN
METHOD:PUBLISH
X-WR-CALNAME:Eden Valley Mountaineering Club | EVMC.co.uk
X-ORIGINAL-URL:https://evmc.co.uk
X-WR-CALDESC:Events for Eden Valley Mountaineering Club | EVMC.co.uk
REFRESH-INTERVAL;VALUE=DURATION:PT1H
X-Robots-Tag:noindex
X-PUBLISHED-TTL:PT1H
BEGIN:VTIMEZONE
TZID:Europe/London
BEGIN:DAYLIGHT
TZOFFSETFROM:+0000
TZOFFSETTO:+0100
TZNAME:BST
DTSTART:20230326T010000
END:DAYLIGHT
BEGIN:STANDARD
TZOFFSETFROM:+0100
TZOFFSETTO:+0000
TZNAME:GMT
DTSTART:20231029T010000
END:STANDARD
BEGIN:DAYLIGHT
TZOFFSETFROM:+0000
TZOFFSETTO:+0100
TZNAME:BST
DTSTART:20240331T010000
END:DAYLIGHT
BEGIN:STANDARD
TZOFFSETFROM:+0100
TZOFFSETTO:+0000
TZNAME:GMT
DTSTART:20241027T010000
END:STANDARD
BEGIN:DAYLIGHT
TZOFFSETFROM:+0000
TZOFFSETTO:+0100
TZNAME:BST
DTSTART:20250330T010000
END:DAYLIGHT
BEGIN:STANDARD
TZOFFSETFROM:+0100
TZOFFSETTO:+0000
TZNAME:GMT
DTSTART:20251026T010000
END:STANDARD
END:VTIMEZONE
BEGIN:VEVENT
DTSTART;TZID=Europe/London:20240814T170000
DTEND;TZID=Europe/London:20240814T210000
DTSTAMP:20260420T100653
CREATED:20231214T110112Z
LAST-MODIFIED:20231214T110113Z
UID:1569-1723654800-1723669200@evmc.co.uk
SUMMARY:Castle Rock (Thirlmere)
DESCRIPTION:Grid Ref: NY 321197Parking: Car park in Legburthwaite car parkRefreshments afterwards: White Horse – Scales
URL:https://evmc.co.uk/event/castle-rock-thirlmere-3/
CATEGORIES:evening meets
END:VEVENT
END:VCALENDAR